BEGIN:VCALENDAR
VERSION:2.0
PRODID:-//Gt Yarmouth Swimming Club - ECPv6.15.20//NONSGML v1.0//EN
CALSCALE:GREGORIAN
METHOD:PUBLISH
X-WR-CALNAME:Gt Yarmouth Swimming Club
X-ORIGINAL-URL:https://www.gysc.org.uk
X-WR-CALDESC:Events for Gt Yarmouth Swimming Club
REFRESH-INTERVAL;VALUE=DURATION:PT1H
X-Robots-Tag:noindex
X-PUBLISHED-TTL:PT1H
BEGIN:VTIMEZONE
TZID:Europe/London
BEGIN:DAYLIGHT
TZOFFSETFROM:+0000
TZOFFSETTO:+0100
TZNAME:BST
DTSTART:20230326T010000
END:DAYLIGHT
BEGIN:STANDARD
TZOFFSETFROM:+0100
TZOFFSETTO:+0000
TZNAME:GMT
DTSTART:20231029T010000
END:STANDARD
BEGIN:DAYLIGHT
TZOFFSETFROM:+0000
TZOFFSETTO:+0100
TZNAME:BST
DTSTART:20240331T010000
END:DAYLIGHT
BEGIN:STANDARD
TZOFFSETFROM:+0100
TZOFFSETTO:+0000
TZNAME:GMT
DTSTART:20241027T010000
END:STANDARD
BEGIN:DAYLIGHT
TZOFFSETFROM:+0000
TZOFFSETTO:+0100
TZNAME:BST
DTSTART:20250330T010000
END:DAYLIGHT
BEGIN:STANDARD
TZOFFSETFROM:+0100
TZOFFSETTO:+0000
TZNAME:GMT
DTSTART:20251026T010000
END:STANDARD
END:VTIMEZONE
BEGIN:VEVENT
DTSTART;VALUE=DATE:20241028
DTEND;VALUE=DATE:20241104
DTSTAMP:20260422T185106
CREATED:20241025T171956Z
LAST-MODIFIED:20241025T171956Z
UID:1478-1730073600-1730678399@www.gysc.org.uk
SUMMARY:Learn 2 Swim - Half Term
DESCRIPTION:
URL:https://www.gysc.org.uk/event/learn-2-swim-half-term/
LOCATION:Gt Yarmouth Charter Academy
CATEGORIES:Learn 2 Swim Term Dates
END:VEVENT
END:VCALENDAR