BEGIN:VCALENDAR
VERSION:2.0
PRODID:-//Gt Yarmouth Swimming Club - ECPv6.15.20//NONSGML v1.0//EN
CALSCALE:GREGORIAN
METHOD:PUBLISH
X-ORIGINAL-URL:https://www.gysc.org.uk
X-WR-CALDESC:Events for Gt Yarmouth Swimming Club
REFRESH-INTERVAL;VALUE=DURATION:PT1H
X-Robots-Tag:noindex
X-PUBLISHED-TTL:PT1H
BEGIN:VTIMEZONE
TZID:Europe/London
BEGIN:DAYLIGHT
TZOFFSETFROM:+0000
TZOFFSETTO:+0100
TZNAME:BST
DTSTART:20240331T010000
END:DAYLIGHT
BEGIN:STANDARD
TZOFFSETFROM:+0100
TZOFFSETTO:+0000
TZNAME:GMT
DTSTART:20241027T010000
END:STANDARD
BEGIN:DAYLIGHT
TZOFFSETFROM:+0000
TZOFFSETTO:+0100
TZNAME:BST
DTSTART:20250330T010000
END:DAYLIGHT
BEGIN:STANDARD
TZOFFSETFROM:+0100
TZOFFSETTO:+0000
TZNAME:GMT
DTSTART:20251026T010000
END:STANDARD
BEGIN:DAYLIGHT
TZOFFSETFROM:+0000
TZOFFSETTO:+0100
TZNAME:BST
DTSTART:20260329T010000
END:DAYLIGHT
BEGIN:STANDARD
TZOFFSETFROM:+0100
TZOFFSETTO:+0000
TZNAME:GMT
DTSTART:20261025T010000
END:STANDARD
BEGIN:DAYLIGHT
TZOFFSETFROM:+0000
TZOFFSETTO:+0100
TZNAME:BST
DTSTART:20270328T010000
END:DAYLIGHT
BEGIN:STANDARD
TZOFFSETFROM:+0100
TZOFFSETTO:+0000
TZNAME:GMT
DTSTART:20271031T010000
END:STANDARD
END:VTIMEZONE
BEGIN:VEVENT
DTSTART;VALUE=DATE:20251031
DTEND;VALUE=DATE:20251103
DTSTAMP:20260422T145902
CREATED:20250608T104406Z
LAST-MODIFIED:20250608T104416Z
UID:1985-1761868800-1762127999@www.gysc.org.uk
SUMMARY:SEER SC Championships 2025
DESCRIPTION:All qualifiers
URL:https://www.gysc.org.uk/event/seer-sc-championships-2025/
CATEGORIES:Competitions
END:VEVENT
BEGIN:VEVENT
DTSTART;VALUE=DATE:20251128
DTEND;VALUE=DATE:20251129
DTSTAMP:20260422T145902
CREATED:20250608T094141Z
LAST-MODIFIED:20250608T094141Z
UID:1974-1764288000-1764374399@www.gysc.org.uk
SUMMARY:Presentation evening
DESCRIPTION:
URL:https://www.gysc.org.uk/event/presentation-evening/
LOCATION:Hemsby
CATEGORIES:Social Events
END:VEVENT
BEGIN:VEVENT
DTSTART;TZID=Europe/London:20260118T180000
DTEND;TZID=Europe/London:20260118T200000
DTSTAMP:20260422T145902
CREATED:20250416T085317Z
LAST-MODIFIED:20250416T085317Z
UID:1939-1768759200-1768766400@www.gysc.org.uk
SUMMARY:Long course training
DESCRIPTION:
URL:https://www.gysc.org.uk/event/long-course-training/
LOCATION:UEA Sportspark
CATEGORIES:Training
END:VEVENT
END:VCALENDAR